BEGIN:VCALENDAR
VERSION:2.0
PRODID:-//eventon.com NONSGML v1.0//EN
BEGIN:VEVENT
UID:69e5eb6f8a313
DTSTAMP:20260420T090135
DTSTART:20160401T000500Z
DTEND:20160401T235500Z
LOCATION:CA 
SUMMARY:Real Food Films Contest: Finalists Announced!
DESCRIPTION: Check back soon for more information!
END:VEVENT
END:VCALENDAR