BEGIN:VCALENDAR
VERSION:2.0
PRODID:-//eventon.com NONSGML v1.0//EN
BEGIN:VEVENT
UID:69e7e19837a20
DTSTAMP:20260421T204408
DTSTART:20160401T000500Z
DTEND:20160430T235500Z
LOCATION:CA 
SUMMARY:Real Food Films Contest: Online Voting is Open
DESCRIPTION: Check back soon for more information!
END:VEVENT
END:VCALENDAR