BEGIN:VCALENDAR
VERSION:2.0
PRODID:-//eventon.com NONSGML v1.0//EN
BEGIN:VEVENT
UID:69e9f8b63746e
DTSTAMP:20260423T104718
DTSTART:20180310T000000Z
DTEND:20180312T235900Z
LOCATION:
SUMMARY:Real Food Rising!
DESCRIPTION: HEAL’s mission is to build our collective power to create food and farm systems that are healthy for our families\,  accessible and affordable for all communities\,  and fair to the hard-working people who grow\,  distribute\,  prepare\,  and serve our food — while protecting the air\,  water\,  and land we all[..]
END:VEVENT
END:VCALENDAR