BEGIN:VCALENDAR
VERSION:2.0
PRODID:-//eventon.com NONSGML v1.0//EN
BEGIN:VEVENT
UID:69e6cfadca78d
DTSTAMP:20260421T011525
DTSTART:20181014T150000Z
DTEND:20181014T160000Z
LOCATION:The Bargehouse Gallery Oxo Tower Wharf\,  Barge House St\, 
SUMMARY:What's So Wrong with the Commodification of Our Food?
DESCRIPTION: Farmer\,  Gerald Miles\,  and Landworkers' Alliance member\,  Jyoti Fernandes\,  join Anna Lappé to discuss how a global food system dominated by just a handful of corporations—from food retailers to seed and chemical companies to agribusiness giants—fails both the farmer and end-user. Together\,  they’ll offer up ways we can challenge these[..]
END:VEVENT
END:VCALENDAR