BEGIN:VCALENDAR
VERSION:2.0
PRODID:-//eventon.com NONSGML v1.0//EN
BEGIN:VEVENT
UID:69e9f79e1c086
DTSTAMP:20260423T104238
DTSTART:20211011T140000Z
DTEND:20211011T150000Z
LOCATION:
SUMMARY:KPFA's "About Health" with Rona Renner
DESCRIPTION: Anna joins Rona Renner (once again!) with Frances Moore Lappé on popular radio show\, &nbsp;About Health.&nbsp;
END:VEVENT
END:VCALENDAR