BEGIN:VCALENDAR
VERSION:2.0
PRODID:-//eventon.com NONSGML v1.0//EN
BEGIN:VEVENT
UID:69e5c02d27592
DTSTAMP:20260420T055701
DTSTART:20220218T100000Z
DTEND:20220218T113000Z
LOCATION:
SUMMARY:Roots of Resilience | Soil
DESCRIPTION: We are joining up with The New School at Commonweal again for another three-part series on the&nbsp;roots of resilience. We're launching the series with SOIL.&nbsp; In this conversation\,  Real Food Media’s Tiffani Patton talks with Mai Nguyen—farmer\,  organizer\,  and co-founder of&nbsp;Minnow—and Pandora Thomas —educator\,  farmer\,  caregiver\,  and founder of&nbsp;EARTHseed Permaculture[..]
END:VEVENT
END:VCALENDAR