BEGIN:VCALENDAR
VERSION:2.0
PRODID:-//eventon.com NONSGML v1.0//EN
BEGIN:VEVENT
UID:69e5e6a441fdc
DTSTAMP:20260420T084108
DTSTART:20160320T110000Z
DTEND:20160320T235500Z
LOCATION:CA 
SUMMARY:Slow Food Russian River Lunch
DESCRIPTION: Check back soon for more details and learn more about the Slow Food Russian River chapter.
END:VEVENT
END:VCALENDAR