BEGIN:VCALENDAR
VERSION:2.0
PRODID:-//eventon.com NONSGML v1.0//EN
BEGIN:VEVENT
UID:69e7448c9cac0
DTSTAMP:20260421T093404
DTSTART:20150308T000500Z
DTEND:20150315T235500Z
LOCATION:
SUMMARY:Real Food Media Contest Winning Film Launch
DESCRIPTION: More details are in the works. Stay tuned!
END:VEVENT
END:VCALENDAR